BEGIN:VCALENDAR
VERSION:2.0
PRODID:-//Justavocados - ECPv6.15.0.1//NONSGML v1.0//EN
CALSCALE:GREGORIAN
METHOD:PUBLISH
X-ORIGINAL-URL:https://justavocados.co.nz
X-WR-CALDESC:Events for Justavocados
REFRESH-INTERVAL;VALUE=DURATION:PT1H
X-Robots-Tag:noindex
X-PUBLISHED-TTL:PT1H
BEGIN:VTIMEZONE
TZID:Pacific/Auckland
BEGIN:STANDARD
TZOFFSETFROM:+1300
TZOFFSETTO:+1200
TZNAME:NZST
DTSTART:20260404T140000
END:STANDARD
BEGIN:DAYLIGHT
TZOFFSETFROM:+1200
TZOFFSETTO:+1300
TZNAME:NZDT
DTSTART:20260926T140000
END:DAYLIGHT
END:VTIMEZONE
BEGIN:VEVENT
DTSTART;TZID=Pacific/Auckland:20260331T150000
DTEND;TZID=Pacific/Auckland:20260331T180000
DTSTAMP:20260422T232344
CREATED:20260303T214619Z
LAST-MODIFIED:20260303T214619Z
UID:10000076-1774969200-1774980000@justavocados.co.nz
SUMMARY:Meeting: 2025-26 season review and 2026-27 preview (Katikati + Livestream)
DESCRIPTION:Join the Just Avocados and Darling Group teams to take a deep dive into the outcomes and activity in the 2025-26 season and discuss the forecast for the coming season. There will also be plenty of social time to catch up with individual team members and other growers. \nDate: Tuesday 31 March 2026\nEvent location: Fairview Golf Club\, 34 Sharp Road\, Katikati\nTime: 3pm – 6pm\nRSVP by Monday 16 March 4:00pm to samantha@darlinggroup.co.nz  \nThis meeting will also be livestreamed and recorded – the registration link will be shared soon. 
URL:https://justavocados.co.nz/event/meeting-2025-26-season-review-and-2026-27-preview-katikati-livestream/
LOCATION:Fairview Golf Club\, 34 Sharp Road\, Katikati\, Bay of Plenty\, 3178\, New Zealand
ORGANIZER;CN="Samantha Leuthart-Tomlinson":MAILTO:samantha@darlinggroup.co.nz
END:VEVENT
END:VCALENDAR