BEGIN:VCALENDAR
VERSION:2.0
PRODID:-//Justavocados - ECPv6.15.0.1//NONSGML v1.0//EN
CALSCALE:GREGORIAN
METHOD:PUBLISH
X-ORIGINAL-URL:https://justavocados.co.nz
X-WR-CALDESC:Events for Justavocados
REFRESH-INTERVAL;VALUE=DURATION:PT1H
X-Robots-Tag:noindex
X-PUBLISHED-TTL:PT1H
BEGIN:VTIMEZONE
TZID:Pacific/Auckland
BEGIN:STANDARD
TZOFFSETFROM:+1300
TZOFFSETTO:+1200
TZNAME:NZST
DTSTART:20250405T140000
END:STANDARD
BEGIN:DAYLIGHT
TZOFFSETFROM:+1200
TZOFFSETTO:+1300
TZNAME:NZDT
DTSTART:20250927T140000
END:DAYLIGHT
END:VTIMEZONE
BEGIN:VEVENT
DTSTART;TZID=Pacific/Auckland:20251215T143000
DTEND;TZID=Pacific/Auckland:20251215T153000
DTSTAMP:20260423T042128
CREATED:20251203T025514Z
LAST-MODIFIED:20251203T045952Z
UID:10000075-1765809000-1765812600@justavocados.co.nz
SUMMARY:WEBINAR: Darling Group export and domestic market update
DESCRIPTION:Join the Darling Group team for a brief export and domestic market update. \nMost of the time in this webinar will be allocated to covering off your questions in a Q&A session. \nIf you have any topics or questions that you would like us to prepare information on to present\, please send them to hello@darlinggroup.co.nz 10 December.
URL:https://justavocados.co.nz/event/webinar-darling-group-export-and-local-market-update/
ATTACH;FMTTYPE=image/png:https://justavocados.co.nz/wp-content/uploads/Just-Avocados-Workshop-post-10.png
END:VEVENT
END:VCALENDAR