BEGIN:VCALENDAR
VERSION:2.0
PRODID:-//Justavocados - ECPv6.15.0.1//NONSGML v1.0//EN
CALSCALE:GREGORIAN
METHOD:PUBLISH
X-WR-CALNAME:Justavocados
X-ORIGINAL-URL:https://justavocados.co.nz
X-WR-CALDESC:Events for Justavocados
REFRESH-INTERVAL;VALUE=DURATION:PT1H
X-Robots-Tag:noindex
X-PUBLISHED-TTL:PT1H
BEGIN:VTIMEZONE
TZID:Pacific/Auckland
BEGIN:STANDARD
TZOFFSETFROM:+1300
TZOFFSETTO:+1200
TZNAME:NZST
DTSTART:20240406T140000
END:STANDARD
BEGIN:DAYLIGHT
TZOFFSETFROM:+1200
TZOFFSETTO:+1300
TZNAME:NZDT
DTSTART:20240928T140000
END:DAYLIGHT
END:VTIMEZONE
BEGIN:VEVENT
DTSTART;TZID=Pacific/Auckland:20241202T100000
DTEND;TZID=Pacific/Auckland:20241202T113000
DTSTAMP:20260424T065832
CREATED:20241107T040255Z
LAST-MODIFIED:20241112T223713Z
UID:10000064-1733133600-1733139000@justavocados.co.nz
SUMMARY:GLOBALG.A.P. Continuous Improvement Workshop
DESCRIPTION:We are running another workshop on continuous improvement which is a compulsory element for GLOBALG.A.P. version 6 coming into play from 1 January 2025. \nThis workshop will largely be a repeat of the previous sessions but will build on those with some further updates and simplification to our documentation and sharing of practical examples. \nThis workshop will help you understand what you need to do to complete this section of the audit. \nPlease RSVP to Kyra ASAP.
URL:https://justavocados.co.nz/event/globalg-a-p-continuous-improvement-workshop/
LOCATION:Papamoa Community Centre\, 4/34 Gravatt Road\, Papamoa Beach\, Bay of Plenty\, New Zealand
ORGANIZER;CN="Kyra Fielden":MAILTO:kyra@justavocados.co.nz
END:VEVENT
BEGIN:VEVENT
DTSTART;TZID=Pacific/Auckland:20241218T100000
DTEND;TZID=Pacific/Auckland:20241218T110000
DTSTAMP:20260424T065832
CREATED:20241204T201145Z
LAST-MODIFIED:20241204T201230Z
UID:10000065-1734516000-1734519600@justavocados.co.nz
SUMMARY:WEBINAR: Darling Group export market update
DESCRIPTION:Join the Darling Group marketing team for an update on the 2024-25 avocado export season and a discussion of what’s to come. \nMost of the time in this webinar will be allocated to covering off your questions in a Q&A session so please come with a list. \nIf you have any topics or questions that you would like us to prepare information on to present or other questions you want to ensure we cover – please send them to midge@darlinggroup.co.nz by 10 December. \nRegister at the link below.
URL:https://justavocados.co.nz/event/webinar-2024-25-avocado-export-season-update-2/
END:VEVENT
END:VCALENDAR