BEGIN:VCALENDAR
VERSION:2.0
PRODID:-//Justavocados - ECPv6.15.0.1//NONSGML v1.0//EN
CALSCALE:GREGORIAN
METHOD:PUBLISH
X-WR-CALNAME:Justavocados
X-ORIGINAL-URL:https://justavocados.co.nz
X-WR-CALDESC:Events for Justavocados
REFRESH-INTERVAL;VALUE=DURATION:PT1H
X-Robots-Tag:noindex
X-PUBLISHED-TTL:PT1H
BEGIN:VTIMEZONE
TZID:Pacific/Auckland
BEGIN:STANDARD
TZOFFSETFROM:+1300
TZOFFSETTO:+1200
TZNAME:NZST
DTSTART:20240406T140000
END:STANDARD
BEGIN:DAYLIGHT
TZOFFSETFROM:+1200
TZOFFSETTO:+1300
TZNAME:NZDT
DTSTART:20240928T140000
END:DAYLIGHT
END:VTIMEZONE
BEGIN:VEVENT
DTSTART;TZID=Pacific/Auckland:20241009T100000
DTEND;TZID=Pacific/Auckland:20241009T110000
DTSTAMP:20260424T034721
CREATED:20241001T014340Z
LAST-MODIFIED:20241001T014340Z
UID:10000063-1728468000-1728471600@justavocados.co.nz
SUMMARY:WEBINAR: 2024-25 avocado export season update
DESCRIPTION:Join the Darling Group marketing team for an update on the 2024-25 avocado export season and a discussion of what’s to come. \nWe will cover: \n\nExport markets\nLogistics\nPlan for the remainder of the season\nPool results forecast\n\n…and a Q&A session to cover off your queries. \nRegister at the link below.
URL:https://justavocados.co.nz/event/webinar-2024-25-avocado-export-season-update/
END:VEVENT
END:VCALENDAR