BEGIN:VCALENDAR
VERSION:2.0
PRODID:-//Justavocados - ECPv6.15.0.1//NONSGML v1.0//EN
CALSCALE:GREGORIAN
METHOD:PUBLISH
X-WR-CALNAME:Justavocados
X-ORIGINAL-URL:https://justavocados.co.nz
X-WR-CALDESC:Events for Justavocados
REFRESH-INTERVAL;VALUE=DURATION:PT1H
X-Robots-Tag:noindex
X-PUBLISHED-TTL:PT1H
BEGIN:VTIMEZONE
TZID:Pacific/Auckland
BEGIN:STANDARD
TZOFFSETFROM:+1300
TZOFFSETTO:+1200
TZNAME:NZST
DTSTART:20240406T140000
END:STANDARD
BEGIN:DAYLIGHT
TZOFFSETFROM:+1200
TZOFFSETTO:+1300
TZNAME:NZDT
DTSTART:20240928T140000
END:DAYLIGHT
END:VTIMEZONE
BEGIN:VEVENT
DTSTART;TZID=Pacific/Auckland:20240812T130000
DTEND;TZID=Pacific/Auckland:20240812T143000
DTSTAMP:20260423T224803
CREATED:20240728T220000Z
LAST-MODIFIED:20240804T220121Z
UID:10000060-1723467600-1723473000@justavocados.co.nz
SUMMARY:WORKSHOP: Improving soil function and productivity
DESCRIPTION:Venue: McKinney Room\, Pātuki Manawa Digital Hub\, 21 Main Road Katikati.\nParking: Katikati Main Road or Talisman Drive carpark. \nPlease join us and our guest speaker Dave Whittaker from Southern Humates as we delve into the topic of unlocking the potential in your orchard’s soil to increase the performance of your avocados trees. \nKyra Fielden will also share information on non-chemical weed control. \n\nRegister for this event by emailing communications@darlinggroup.co.nz\nA video will also be available on Thrive at a later date.\nTea and coffee will be provided.
URL:https://justavocados.co.nz/event/workshop-soil-health-and-productivity/
LOCATION:Katikati Digital Hub\, Mc Kinney Room\, 21 Main Road\, Katikati\, 3129\, New Zealand
ORGANIZER;CN="Just Avocados":MAILTO:hello@darlinggroup.co.nz
END:VEVENT
END:VCALENDAR