BEGIN:VCALENDAR
VERSION:2.0
PRODID:-//Justavocados - ECPv6.15.0.1//NONSGML v1.0//EN
CALSCALE:GREGORIAN
METHOD:PUBLISH
X-WR-CALNAME:Justavocados
X-ORIGINAL-URL:https://justavocados.co.nz
X-WR-CALDESC:Events for Justavocados
REFRESH-INTERVAL;VALUE=DURATION:PT1H
X-Robots-Tag:noindex
X-PUBLISHED-TTL:PT1H
BEGIN:VTIMEZONE
TZID:Pacific/Auckland
BEGIN:STANDARD
TZOFFSETFROM:+1300
TZOFFSETTO:+1200
TZNAME:NZST
DTSTART:20240406T140000
END:STANDARD
BEGIN:DAYLIGHT
TZOFFSETFROM:+1200
TZOFFSETTO:+1300
TZNAME:NZDT
DTSTART:20240928T140000
END:DAYLIGHT
END:VTIMEZONE
BEGIN:VEVENT
DTSTART;TZID=Pacific/Auckland:20240712T100000
DTEND;TZID=Pacific/Auckland:20240712T113000
DTSTAMP:20260423T193832
CREATED:20240711T002910Z
LAST-MODIFIED:20240711T002910Z
UID:10000059-1720778400-1720783800@justavocados.co.nz
SUMMARY:Just Avocados Discussion Group: Athenree
DESCRIPTION:Hosts: Russell and Ailsa Whiteman \nTopic: Ozone Treatment with John Clements from Hort03. ‘Their technology focuses on using ozone-treated water applied to crops and soils as a sanitising\, disinfecting and treatment agent\, replacing some conventional spray treatments.’ Russell Whiteman has been using ozone treatment for two years with data from pest monitoring and spray responses. John will present the data and explain the equipment and how ozone works. See article for more information >> More than hot air to ozone crop treatment (farmersweekly.co.nz). \nRussell will also talk through his pruning methods on the 190 trees that were planted in 2000. Russell’s pruning techniques make for some of the most efficient harvesting that Avoworks has done on mobile elevating work platforms. \nParking: 200m up driveway\, past the house at driveway entrance.\n \nBring: Your own drink – there are no kitchen facilities available at the location so bring a flask if you would like a hot drink.
URL:https://justavocados.co.nz/event/just-avocados-discussion-group-athenree/
LOCATION:1031 State Highway 2\, Athenree\, 1031 State Highway 2\, Athenree\, New Zealand
END:VEVENT
BEGIN:VEVENT
DTSTART;TZID=Pacific/Auckland:20240731T100000
DTEND;TZID=Pacific/Auckland:20240731T110000
DTSTAMP:20260423T193832
CREATED:20240728T221423Z
LAST-MODIFIED:20240728T222431Z
UID:10000061-1722420000-1722423600@justavocados.co.nz
SUMMARY:WEBINAR: Season update - Registration required
DESCRIPTION:Join the Darling Group and Just Avocados teams for an update on the export and domestic markets and ensuring a smooth start to your 2024-25 season harvest. \nUse the weblink below to register for the event through Microsoft Teams. We look forward to having you attend the event! \nThere will be lots of opportunity for you to ask questions of the team during this session. If there is something you would like us to cover – please send your questions ASAP to midge@darlinggroup.co.nz.
URL:https://justavocados.co.nz/event/webinar-season-update-2/
ORGANIZER;CN="Midge Munro":MAILTO:midge@darlinggroup.co.nz
END:VEVENT
END:VCALENDAR