BEGIN:VCALENDAR
VERSION:2.0
PRODID:-//Justavocados - ECPv6.15.0.1//NONSGML v1.0//EN
CALSCALE:GREGORIAN
METHOD:PUBLISH
X-WR-CALNAME:Justavocados
X-ORIGINAL-URL:https://justavocados.co.nz
X-WR-CALDESC:Events for Justavocados
REFRESH-INTERVAL;VALUE=DURATION:PT1H
X-Robots-Tag:noindex
X-PUBLISHED-TTL:PT1H
BEGIN:VTIMEZONE
TZID:Pacific/Auckland
BEGIN:STANDARD
TZOFFSETFROM:+1300
TZOFFSETTO:+1200
TZNAME:NZST
DTSTART:20240406T140000
END:STANDARD
BEGIN:DAYLIGHT
TZOFFSETFROM:+1200
TZOFFSETTO:+1300
TZNAME:NZDT
DTSTART:20240928T140000
END:DAYLIGHT
END:VTIMEZONE
BEGIN:VEVENT
DTSTART;TZID=Pacific/Auckland:20240325T150000
DTEND;TZID=Pacific/Auckland:20240325T163000
DTSTAMP:20260423T110441
CREATED:20240228T233607Z
LAST-MODIFIED:20240319T023220Z
UID:10000056-1711378800-1711384200@justavocados.co.nz
SUMMARY:Meeting: 2023-24 season review and 2024-25 preview (Katikati)
DESCRIPTION:Join the Just Avocados and Darling Group teams to take a deep dive into the outcomes and activity in the 2023-24 season and discuss the forecast for the coming season. We will also cover compliance requirements and update you on the shape of our contract for the the 2024-25 season. \nAfternoon tea provided. \nWe look forward to catching up with you. \nPlease RSVP to midge@darlinggroup.co.nz and let us know of any dietary requirements.
URL:https://justavocados.co.nz/event/meeting-2023-24-season-review-and-2024-25-preview/
LOCATION:St Paul’s Church\, Mulgan Street\, Katikati
END:VEVENT
BEGIN:VEVENT
DTSTART;TZID=Pacific/Auckland:20240326T150000
DTEND;TZID=Pacific/Auckland:20240326T163000
DTSTAMP:20260423T110441
CREATED:20240228T235025Z
LAST-MODIFIED:20240228T235025Z
UID:10000057-1711465200-1711470600@justavocados.co.nz
SUMMARY:Meeting: 2023-24 season review and 2024-25 preview (Kerikeri)
DESCRIPTION:Join the Just Avocados and Darling Group teams to take a deep dive into the outcomes and activity in the 2023-24 season and discuss the forecast for the coming season. We will also cover compliance requirements and update you on the shape of our contract for the the 2024-25 season. \nAfternoon tea provided. \nWe look forward to catching up with you. \nPlease RSVP to midge@darlinggroup.co.nz and let us know of any dietary requirements.
URL:https://justavocados.co.nz/event/meeting-2023-24-season-review-and-2024-25-preview-kerikeri/
LOCATION:Bay of Islands Golf Club\, Golf View Road\, Waipapa\, 0230\, New Zealand
END:VEVENT
END:VCALENDAR