BEGIN:VCALENDAR
VERSION:2.0
PRODID:-//Justavocados - ECPv6.15.0.1//NONSGML v1.0//EN
CALSCALE:GREGORIAN
METHOD:PUBLISH
X-ORIGINAL-URL:https://justavocados.co.nz
X-WR-CALDESC:Events for Justavocados
REFRESH-INTERVAL;VALUE=DURATION:PT1H
X-Robots-Tag:noindex
X-PUBLISHED-TTL:PT1H
BEGIN:VTIMEZONE
TZID:Pacific/Auckland
BEGIN:STANDARD
TZOFFSETFROM:+1300
TZOFFSETTO:+1200
TZNAME:NZST
DTSTART:20240406T140000
END:STANDARD
BEGIN:DAYLIGHT
TZOFFSETFROM:+1200
TZOFFSETTO:+1300
TZNAME:NZDT
DTSTART:20240928T140000
END:DAYLIGHT
END:VTIMEZONE
BEGIN:VEVENT
DTSTART;TZID=Pacific/Auckland:20240214T150000
DTEND;TZID=Pacific/Auckland:20240214T170000
DTSTAMP:20260423T092614
CREATED:20240117T202802Z
LAST-MODIFIED:20240208T025235Z
UID:10000055-1707922800-1707930000@justavocados.co.nz
SUMMARY:WORKSHOP: Preparing YOU for Continuous Improvement Planning
DESCRIPTION:This is a must attend event. Continuous Improvement Planning is compulsory for your GLOBALG.A.P. audit and will form part of the Freshwater Farm Plans. Building on our last workshop\, join our grower services team to work through real life scenarios of continuous improvement. \nPLAN\, DO\, CHECK\, ACT is the model for continuous improvement that we will elaborate on in the context of improving outcomes on your avocado orchard in terms of economic\, environmental\, and social situations. \nEmail us any scenarios you would like us to cover during the workshop. \nRSVP to midge@darlinggroup.co.nz
URL:https://justavocados.co.nz/event/workshop-ggapv6-continuous-improvement-planning/
LOCATION:Katikati Digital Hub\, Mc Kinney Room\, 21 Main Road\, Katikati\, 3129\, New Zealand
ORGANIZER;CN="Gemma Peck":MAILTO:admin@darlinggroup.co.nz
END:VEVENT
BEGIN:VEVENT
DTSTART;TZID=Pacific/Auckland:20240228T100000
DTEND;TZID=Pacific/Auckland:20240228T110000
DTSTAMP:20260423T092614
CREATED:20231221T023033Z
LAST-MODIFIED:20231221T023033Z
UID:10000054-1709114400-1709118000@justavocados.co.nz
SUMMARY:Webinar: Just Avocados grower season update
DESCRIPTION:Join the Just Avocados Grower Services team\, and the Darling Group Sales and Marketing team for an update on markets and the NZ industry plus discussion of your questions. \n  \nIf you would like a specific question or topic covered please email them through to communications@darlinggroup.co.nz  \n 
URL:https://justavocados.co.nz/event/webinar-just-avocados-grower-season-update/
LOCATION:Online
ORGANIZER;CN="Gemma Peck":MAILTO:admin@darlinggroup.co.nz
END:VEVENT
END:VCALENDAR