BEGIN:VCALENDAR
VERSION:2.0
PRODID:-//Justavocados - ECPv6.15.0.1//NONSGML v1.0//EN
CALSCALE:GREGORIAN
METHOD:PUBLISH
X-ORIGINAL-URL:https://justavocados.co.nz
X-WR-CALDESC:Events for Justavocados
REFRESH-INTERVAL;VALUE=DURATION:PT1H
X-Robots-Tag:noindex
X-PUBLISHED-TTL:PT1H
BEGIN:VTIMEZONE
TZID:Pacific/Auckland
BEGIN:STANDARD
TZOFFSETFROM:+1300
TZOFFSETTO:+1200
TZNAME:NZST
DTSTART:20230401T140000
END:STANDARD
BEGIN:DAYLIGHT
TZOFFSETFROM:+1200
TZOFFSETTO:+1300
TZNAME:NZDT
DTSTART:20230923T140000
END:DAYLIGHT
END:VTIMEZONE
BEGIN:VEVENT
DTSTART;TZID=Pacific/Auckland:20231204T083000
DTEND;TZID=Pacific/Auckland:20231204T093000
DTSTAMP:20260423T060647
CREATED:20231122T031358Z
LAST-MODIFIED:20231130T232000Z
UID:10000052-1701678600-1701682200@justavocados.co.nz
SUMMARY:Just Avocados webinar: How plants use nutrients to grow – Seed and Field + Levity Crop Science
DESCRIPTION:You don’t want to miss this one!   John and Kyra invite you to a session with Roger Blyth an advisor agronomist from Seed and Field to discuss how plants use nutrients to grow.  They will introduce a new product range from Levity Crop Science that have shown improvements in tree crops\, addressing key challenges including shelf life\, maturity\, increasing yield without reducing quality and stress management.  Just Avocados is running a trial using their products in the far north.  If you are interested in learning more about their approach to plant science set yourself up in front of the laptop with a bite to eat and join us. \nRegister using the link below.
URL:https://justavocados.co.nz/event/just-avocados-webinar-how-plants-use-nutrients-to-grow-seed-and-field-levity-crop-science/
LOCATION:Online
CATEGORIES:All events
ORGANIZER;CN="Gemma Peck":MAILTO:admin@darlinggroup.co.nz
END:VEVENT
BEGIN:VEVENT
DTSTART;TZID=Pacific/Auckland:20231213T100000
DTEND;TZID=Pacific/Auckland:20231213T120000
DTSTAMP:20260423T060647
CREATED:20231201T030343Z
LAST-MODIFIED:20231206T025058Z
UID:10000053-1702461600-1702468800@justavocados.co.nz
SUMMARY:Just Avocados Discussion Group: Katikati
DESCRIPTION:Hosts: Alex Croasdale-Saunders \nAlex Crossdale-Saunders\, Operations Manager wishes to invite you to the family owned and operated Pahoia Orchards Ltd for a walk through the covered blueberry orchard discussing how the blueberry industry has its own challenges and how learnings from the avocado orchard can benefit the blueberries\, and vice versa including fertigation.  In the avocado orchard there will be discussion on how to manage challenges from a low-lying block\, biannual bearing and things they look to change and improve on for next season. \nAlex is pleased to provide coffee through OCD Coffee / Brightside in Pahoia at the end of the discussion. \nPlease RSVP to admin@darlinggroup.co.nz with your name and coffee order. \n 
URL:https://justavocados.co.nz/event/just-avocados-discussion-group-katikati-2/
LOCATION:172c Pahoia Road\, 172c Pahoia Road\, Whakamārama\, 3172\, New Zealand
ORGANIZER;CN="Gemma Peck":MAILTO:admin@darlinggroup.co.nz
END:VEVENT
END:VCALENDAR