BEGIN:VCALENDAR
VERSION:2.0
PRODID:-//Justavocados - ECPv6.15.0.1//NONSGML v1.0//EN
CALSCALE:GREGORIAN
METHOD:PUBLISH
X-WR-CALNAME:Justavocados
X-ORIGINAL-URL:https://justavocados.co.nz
X-WR-CALDESC:Events for Justavocados
REFRESH-INTERVAL;VALUE=DURATION:PT1H
X-Robots-Tag:noindex
X-PUBLISHED-TTL:PT1H
BEGIN:VTIMEZONE
TZID:Pacific/Auckland
BEGIN:STANDARD
TZOFFSETFROM:+1300
TZOFFSETTO:+1200
TZNAME:NZST
DTSTART:20230401T140000
END:STANDARD
BEGIN:DAYLIGHT
TZOFFSETFROM:+1200
TZOFFSETTO:+1300
TZNAME:NZDT
DTSTART:20230923T140000
END:DAYLIGHT
END:VTIMEZONE
BEGIN:VEVENT
DTSTART;TZID=Pacific/Auckland:20231004T100000
DTEND;TZID=Pacific/Auckland:20231004T120000
DTSTAMP:20260423T024401
CREATED:20230831T015150Z
LAST-MODIFIED:20231001T205436Z
UID:10000049-1696413600-1696420800@justavocados.co.nz
SUMMARY:WORKSHOP: Safe and sustainable avocado production
DESCRIPTION:Freshwater Farm Plan and GGv6 updates and changes. \nKyra Fielden and Sue Hayward of Just Avocados are going to take you through what is coming\, how you can prepare and open the floor for discussion. They will also be joined by a guest speaker – Ailsa Robertson – Environmental Policy Team Leader\, Horticulture New Zealand. \nJoin us in person at the Ōmokoroa Pavilion – Social room (register with Gemma Peck using the email/phone number below) or online using Teams (register using the link below). \nRefreshments and snacks will be provided.
URL:https://justavocados.co.nz/event/workshop-safe-and-sustainable-avocado-production/
LOCATION:Ōmokoroa Pavilion: Social Room\, 28 Western Avenue\,\, Ōmokoroa\, Bay of Plenty\, 3114\, New Zealand
ORGANIZER;CN="Gemma Peck":MAILTO:admin@darlinggroup.co.nz
END:VEVENT
BEGIN:VEVENT
DTSTART;TZID=Pacific/Auckland:20231011T100000
DTEND;TZID=Pacific/Auckland:20231011T110000
DTSTAMP:20260423T024401
CREATED:20231003T030918Z
LAST-MODIFIED:20231003T030918Z
UID:10000051-1697018400-1697022000@justavocados.co.nz
SUMMARY:WEBINAR: Season Update
DESCRIPTION:Join the Just Avocados Grower Services team\, and the Darling Group Sales and Marketing team for an update on markets and the NZ industry plus discussion of your questions. If you would like a specific question or topic covered please email them through to communications@darlinggroup.co.nz. \nClick the link below to register for the webinar.
URL:https://justavocados.co.nz/event/webinar-season-update/
LOCATION:Online
ORGANIZER;CN="Gemma Peck":MAILTO:admin@darlinggroup.co.nz
END:VEVENT
BEGIN:VEVENT
DTSTART;TZID=Pacific/Auckland:20231013T100000
DTEND;TZID=Pacific/Auckland:20231013T120000
DTSTAMP:20260423T024401
CREATED:20230917T220406Z
LAST-MODIFIED:20230918T114042Z
UID:10000050-1697191200-1697198400@justavocados.co.nz
SUMMARY:Just Avocados Discussion Group: Katikati
DESCRIPTION:Hosts: Vicki Farr and Nigel D’Ath \nVicki and Nigel wish to invite you to their orchard Wharawhara Trust Orchard for a presentation with Paul Daly from Effective Microorganisms New Zealand EMNZ.  Effective Microorganisms (EM) is a microbial inoculant which can be expanded from concentrate to make an economical product.  Vicki has been making her home brew and expanding EM from concentrate to support natural processes for pest and pathogen suppression through competitive and antagonistic activity using EM.  Vicki has started monitoring data from pest monitoring results and applications which she will share with you. \n  \nPlease bring a plate to share\, and all weather gear. \n 
URL:https://justavocados.co.nz/event/just-avocados-discussion-group-katikati/
LOCATION:89 Woodland Road Katikati\, 89 Woodland Rd\, Katikati
ORGANIZER;CN="Gemma Peck":MAILTO:admin@darlinggroup.co.nz
END:VEVENT
END:VCALENDAR