BEGIN:VCALENDAR
VERSION:2.0
PRODID:-//Justavocados - ECPv6.15.0.1//NONSGML v1.0//EN
CALSCALE:GREGORIAN
METHOD:PUBLISH
X-WR-CALNAME:Justavocados
X-ORIGINAL-URL:https://justavocados.co.nz
X-WR-CALDESC:Events for Justavocados
REFRESH-INTERVAL;VALUE=DURATION:PT1H
X-Robots-Tag:noindex
X-PUBLISHED-TTL:PT1H
BEGIN:VTIMEZONE
TZID:Pacific/Auckland
BEGIN:STANDARD
TZOFFSETFROM:+1300
TZOFFSETTO:+1200
TZNAME:NZST
DTSTART:20220402T140000
END:STANDARD
BEGIN:DAYLIGHT
TZOFFSETFROM:+1200
TZOFFSETTO:+1300
TZNAME:NZDT
DTSTART:20220924T140000
END:DAYLIGHT
BEGIN:STANDARD
TZOFFSETFROM:+1300
TZOFFSETTO:+1200
TZNAME:NZST
DTSTART:20230401T140000
END:STANDARD
BEGIN:DAYLIGHT
TZOFFSETFROM:+1200
TZOFFSETTO:+1300
TZNAME:NZDT
DTSTART:20230923T140000
END:DAYLIGHT
END:VTIMEZONE
BEGIN:VEVENT
DTSTART;TZID=Pacific/Auckland:20230719T100000
DTEND;TZID=Pacific/Auckland:20230719T110000
DTSTAMP:20260423T110855
CREATED:20230727T032747Z
LAST-MODIFIED:20230731T070824Z
UID:10000047-1689760800-1689764400@justavocados.co.nz
SUMMARY:WEBINAR: 2023-24 NZ AVOCADO SEASON OUTLOOK
DESCRIPTION:
URL:https://justavocados.co.nz/event/webinar-2023-24-nz-avocado-season-outlook/
LOCATION:Online
ATTACH;FMTTYPE=image/jpeg:https://justavocados.co.nz/wp-content/uploads/DARLING-28-scaled.jpg
END:VEVENT
BEGIN:VEVENT
DTSTART;TZID=Pacific/Auckland:20220224T100000
DTEND;TZID=Pacific/Auckland:20220224T170000
DTSTAMP:20260423T110855
CREATED:20211212T212313Z
LAST-MODIFIED:20211212T212313Z
UID:10000046-1645696800-1645722000@justavocados.co.nz
SUMMARY:Prepping Trees for Winter with Erica Faber
DESCRIPTION:
URL:https://justavocados.co.nz/event/prepping-trees-for-winter-with-erica-faber/
END:VEVENT
END:VCALENDAR