BEGIN:VCALENDAR
VERSION:2.0
PRODID:-//Justavocados - ECPv6.15.0.1//NONSGML v1.0//EN
CALSCALE:GREGORIAN
METHOD:PUBLISH
X-WR-CALNAME:Justavocados
X-ORIGINAL-URL:https://justavocados.co.nz
X-WR-CALDESC:Events for Justavocados
REFRESH-INTERVAL;VALUE=DURATION:PT1H
X-Robots-Tag:noindex
X-PUBLISHED-TTL:PT1H
BEGIN:VTIMEZONE
TZID:Pacific/Auckland
BEGIN:STANDARD
TZOFFSETFROM:+1300
TZOFFSETTO:+1200
TZNAME:NZST
DTSTART:20250405T140000
END:STANDARD
BEGIN:DAYLIGHT
TZOFFSETFROM:+1200
TZOFFSETTO:+1300
TZNAME:NZDT
DTSTART:20250927T140000
END:DAYLIGHT
END:VTIMEZONE
BEGIN:VEVENT
DTSTART;TZID=Pacific/Auckland:20251119T073000
DTEND;TZID=Pacific/Auckland:20251119T143000
DTSTAMP:20260423T074254
CREATED:20251015T013013Z
LAST-MODIFIED:20251015T013013Z
UID:10000073-1763537400-1763562600@justavocados.co.nz
SUMMARY:COURSE - First aid course for growers
DESCRIPTION:Time: 7:30am – 2:30pm\nDate: Wednesday 19th November 2025\nLocation: provided upon registration\nRSVP: by 21 October to hello@darlinggroup.co.nz  \nCourse details:  \n\nCourse Type: Non–unit standard training contextualised to your workplace\nCost: $140+gst per person for up to 12\, $100 per person thereafter\n\nIncludes: Certificates\, participant books\, and handouts over a 6 – 6.5hr time frame\n\n\n\n\nOptional Qualification: NZQA Unit Standards 6401 and 6402 available upon request\n\nAdditional cost: $50 per person\nAdditional time: 1 hour for assessment paperwork\nGovernment ID requirement: Passport or birth certificate only (driver’s licences cannot be accepted)\nLunch: Please bring your own lunch\, tea and coffee will be provided.\n\n\n\nPlease register your attendance by emailing hello@darlinggroup.co.nz
URL:https://justavocados.co.nz/event/course-first-aid-course-for-growers/
ATTACH;FMTTYPE=image/png:https://justavocados.co.nz/wp-content/uploads/First-aid-course-JAL-growers-post.png
END:VEVENT
END:VCALENDAR