BEGIN:VCALENDAR
VERSION:2.0
PRODID:-//Justavocados - ECPv6.15.0.1//NONSGML v1.0//EN
CALSCALE:GREGORIAN
METHOD:PUBLISH
X-ORIGINAL-URL:https://justavocados.co.nz
X-WR-CALDESC:Events for Justavocados
REFRESH-INTERVAL;VALUE=DURATION:PT1H
X-Robots-Tag:noindex
X-PUBLISHED-TTL:PT1H
BEGIN:VTIMEZONE
TZID:Pacific/Auckland
BEGIN:STANDARD
TZOFFSETFROM:+1300
TZOFFSETTO:+1200
TZNAME:NZST
DTSTART:20250405T140000
END:STANDARD
BEGIN:DAYLIGHT
TZOFFSETFROM:+1200
TZOFFSETTO:+1300
TZNAME:NZDT
DTSTART:20250927T140000
END:DAYLIGHT
END:VTIMEZONE
BEGIN:VEVENT
DTSTART;TZID=Pacific/Auckland:20251009T100000
DTEND;TZID=Pacific/Auckland:20251009T110000
DTSTAMP:20260423T092614
CREATED:20250926T025227Z
LAST-MODIFIED:20250926T025937Z
UID:10000072-1760004000-1760007600@justavocados.co.nz
SUMMARY:WEBINAR: Darling Group export market update
DESCRIPTION:Join the Darling Group marketing team for an update on the 2025-26 NZ avocado export season. \nMost of the time in this webinar will be allocated to covering off your questions in a Q&A session so please come with a list. \nIf you have any topics or questions that you would like us to prepare information on to present or other questions you want to ensure we cover – please send them to midge@darlinggroup.co.nz by 29th September.
URL:https://justavocados.co.nz/event/webinar-darling-group-export-market-update-2/
ATTACH;FMTTYPE=image/png:https://justavocados.co.nz/wp-content/uploads/Just-Avocados-Workshop-post-2.png
END:VEVENT
END:VCALENDAR