BEGIN:VCALENDAR
VERSION:2.0
PRODID:-//Justavocados - ECPv6.15.0.1//NONSGML v1.0//EN
CALSCALE:GREGORIAN
METHOD:PUBLISH
X-ORIGINAL-URL:https://justavocados.co.nz
X-WR-CALDESC:Events for Justavocados
REFRESH-INTERVAL;VALUE=DURATION:PT1H
X-Robots-Tag:noindex
X-PUBLISHED-TTL:PT1H
BEGIN:VTIMEZONE
TZID:Pacific/Auckland
BEGIN:STANDARD
TZOFFSETFROM:+1300
TZOFFSETTO:+1200
TZNAME:NZST
DTSTART:20250405T140000
END:STANDARD
BEGIN:DAYLIGHT
TZOFFSETFROM:+1200
TZOFFSETTO:+1300
TZNAME:NZDT
DTSTART:20250927T140000
END:DAYLIGHT
END:VTIMEZONE
BEGIN:VEVENT
DTSTART;TZID=Pacific/Auckland:20250702T100000
DTEND;TZID=Pacific/Auckland:20250702T113000
DTSTAMP:20260423T175323
CREATED:20250624T232529Z
LAST-MODIFIED:20250624T232746Z
UID:10000071-1751450400-1751455800@justavocados.co.nz
SUMMARY:Just Avocados workshop - Fruit size\, harvest efficiency\, and Uretara Orchard update.
DESCRIPTION:Join the team from Avoworks for an update on Uretara Orchard and how they achieve cost savings without impacting yield. \n\nCameron Byrom will talk harvest efficiency and reducing harvest costs.\nNathan Darling will present a fruit sizing chart and a discussion on the cost benefit of fruit thinning.\nThere will be an opportunity for an orchard walk at the end.\n\nWe will start at 10:00am sharp so please arrive at 9:45am for orchard sign in. \nPlease note – Henry Road is off Busby Road. \nAllow 90 mins for this session. \nTake extra caution when crossing the river ford in the driveway. \nPlease register your attendance by emailing hello@darlinggroup.co.nz. \nThis workshop will be recorded and available on Thrive as soon as possible following the session.
URL:https://justavocados.co.nz/event/just-avocados-workshop-fruit-size-harvest-efficiency-and-uretara-orchard-update/
LOCATION:Uretara Orchard\, 189 Henry Road\, Katikati\, Bay of Plenty\, New Zealand
ORGANIZER;CN="Just Avocados":MAILTO:hello@darlinggroup.co.nz
END:VEVENT
END:VCALENDAR