BEGIN:VCALENDAR
VERSION:2.0
PRODID:-//Justavocados - ECPv6.15.0.1//NONSGML v1.0//EN
CALSCALE:GREGORIAN
METHOD:PUBLISH
X-ORIGINAL-URL:https://justavocados.co.nz
X-WR-CALDESC:Events for Justavocados
REFRESH-INTERVAL;VALUE=DURATION:PT1H
X-Robots-Tag:noindex
X-PUBLISHED-TTL:PT1H
BEGIN:VTIMEZONE
TZID:Pacific/Auckland
BEGIN:STANDARD
TZOFFSETFROM:+1300
TZOFFSETTO:+1200
TZNAME:NZST
DTSTART:20250405T140000
END:STANDARD
BEGIN:DAYLIGHT
TZOFFSETFROM:+1200
TZOFFSETTO:+1300
TZNAME:NZDT
DTSTART:20250927T140000
END:DAYLIGHT
END:VTIMEZONE
BEGIN:VEVENT
DTSTART;TZID=Pacific/Auckland:20250501T100000
DTEND;TZID=Pacific/Auckland:20250501T113000
DTSTAMP:20260423T213050
CREATED:20250428T025628Z
LAST-MODIFIED:20250428T025628Z
UID:10000070-1746093600-1746099000@justavocados.co.nz
SUMMARY:Just Avocados workshop - Fertiliser\, pruning\, and orchard testing with Hill Labs.
DESCRIPTION:Hosted by Gordon MacLeod and Jane Watson-Baker where we will discuss basic fertiliser applications and pruning large trees while maintaining production. We will also have Sheena and Caroline from Hill Labs who will cover soil and leaf testing. You will gain a better understand of what happens to your samples when they go to the lab. Topics they will cover are: \n\nResidue testing\nHeavy metal testing\nWater testing\nSoil and leaf testing\nPhosphate and Cadmium correlation and testing the soil.\nCarbon:Nitrogen and organic matter profile testing\, to track soil health changes\n\nLight refreshments will be available. \nThis session will be recorded and available on Thrive.
URL:https://justavocados.co.nz/event/just-avocados-workshop-fertiliser-pruning-and-orchard-testing-with-hill-labs/
LOCATION:Gordon MacLeod and Jane Watson-Baker\, 5 Waiau Road\, Athenree\, Bay of Plenty\, 3177\, New Zealand
END:VEVENT
END:VCALENDAR