BEGIN:VCALENDAR
VERSION:2.0
PRODID:-//Justavocados - ECPv6.15.0.1//NONSGML v1.0//EN
CALSCALE:GREGORIAN
METHOD:PUBLISH
X-ORIGINAL-URL:https://justavocados.co.nz
X-WR-CALDESC:Events for Justavocados
REFRESH-INTERVAL;VALUE=DURATION:PT1H
X-Robots-Tag:noindex
X-PUBLISHED-TTL:PT1H
BEGIN:VTIMEZONE
TZID:Pacific/Auckland
BEGIN:STANDARD
TZOFFSETFROM:+1300
TZOFFSETTO:+1200
TZNAME:NZST
DTSTART:20250405T140000
END:STANDARD
BEGIN:DAYLIGHT
TZOFFSETFROM:+1200
TZOFFSETTO:+1300
TZNAME:NZDT
DTSTART:20250927T140000
END:DAYLIGHT
END:VTIMEZONE
BEGIN:VEVENT
DTSTART;TZID=Pacific/Auckland:20250224T100000
DTEND;TZID=Pacific/Auckland:20250224T113000
DTSTAMP:20260424T034734
CREATED:20250213T002318Z
LAST-MODIFIED:20250213T002318Z
UID:10000067-1740391200-1740396600@justavocados.co.nz
SUMMARY:GLOBALG.A.P. Continuous Improvement Workshop
DESCRIPTION:We are running another workshop on continuous improvement which is a compulsory element for GLOBALG.A.P. version 6 which is current now as of 1 January 2025. \nThis workshop will largely be a repeat of the previous sessions but will build on those with some further updates and simplification to our documentation and sharing of practical examples. \nThis workshop will help you understand what you need to do to complete this section of the audit. \nPlease RSVP to Midge ASAP
URL:https://justavocados.co.nz/event/globalg-a-p-continuous-improvement-workshop-2/
LOCATION:The Centre\, Mckinney Room\, 21 Main Road\, Katikati\, New Zealand
ORGANIZER;CN="Midge Munro":MAILTO:midge@darlinggroup.co.nz
END:VEVENT
END:VCALENDAR