BEGIN:VCALENDAR
VERSION:2.0
PRODID:-//Justavocados - ECPv6.15.0.1//NONSGML v1.0//EN
CALSCALE:GREGORIAN
METHOD:PUBLISH
X-ORIGINAL-URL:https://justavocados.co.nz
X-WR-CALDESC:Events for Justavocados
REFRESH-INTERVAL;VALUE=DURATION:PT1H
X-Robots-Tag:noindex
X-PUBLISHED-TTL:PT1H
BEGIN:VTIMEZONE
TZID:Pacific/Auckland
BEGIN:STANDARD
TZOFFSETFROM:+1300
TZOFFSETTO:+1200
TZNAME:NZST
DTSTART:20240406T140000
END:STANDARD
BEGIN:DAYLIGHT
TZOFFSETFROM:+1200
TZOFFSETTO:+1300
TZNAME:NZDT
DTSTART:20240928T140000
END:DAYLIGHT
END:VTIMEZONE
BEGIN:VEVENT
DTSTART;TZID=Pacific/Auckland:20240410T150000
DTEND;TZID=Pacific/Auckland:20240410T163000
DTSTAMP:20260423T160934
CREATED:20240404T005428Z
LAST-MODIFIED:20240404T005552Z
UID:10000058-1712761200-1712766600@justavocados.co.nz
SUMMARY:WORKSHOP: Preparing YOU for Continuous Improvement Planning
DESCRIPTION:This is a must attend event. Continuous Improvement Planning is compulsory for your GLOBALG.A.P. audit and will form part of the Freshwater Farm Plans. Building on our last workshop\, join our grower services team to work through real life scenarios of continuous improvement. \nPLAN\, DO\, CHECK\, ACT is the model for continuous improvement that we will elaborate on in the context of improving outcomes on your avocado orchard in terms of economic\, environmental\, and social situations. \nEmail us any scenarios you would like us to cover during the workshop. \nRSVP to john@justavocados.co.nz
URL:https://justavocados.co.nz/event/workshop-preparing-you-for-continuous-improvement-planning/
LOCATION:Huketere Orchard\, 86 Huketere Road\, Pukenui\, 0484\, New Zealand
ORGANIZER;CN="John Emett":MAILTO:john@justavocados.co.nz
END:VEVENT
BEGIN:VEVENT
DTSTART;TZID=Pacific/Auckland:20240410T150000
DTEND;TZID=Pacific/Auckland:20240410T180000
DTSTAMP:20260423T160934
CREATED:20250213T003101Z
LAST-MODIFIED:20250213T003806Z
UID:10000068-1712761200-1712772000@justavocados.co.nz
SUMMARY:Meeting: 2024-25 season review and 2025-26 preview
DESCRIPTION:Join the Darling Group and Just Avocados teams to take a deep dive into the outcomes and activity in the 2024-25 season and discuss the forecast for the coming season. \nRefreshments and social time included. \nWe look forward to catching up with you. \nPlease RSVP by 27 March to Midge: midge@darlinggroup.co.nz and let us know of any dietary requirements.
URL:https://justavocados.co.nz/event/meeting-2024-25-season-review-and-2025-26-preview/
ORGANIZER;CN="Midge Munro":MAILTO:midge@darlinggroup.co.nz
END:VEVENT
END:VCALENDAR