BEGIN:VCALENDAR
VERSION:2.0
PRODID:-//Justavocados - ECPv6.15.0.1//NONSGML v1.0//EN
CALSCALE:GREGORIAN
METHOD:PUBLISH
X-ORIGINAL-URL:https://justavocados.co.nz
X-WR-CALDESC:Events for Justavocados
REFRESH-INTERVAL;VALUE=DURATION:PT1H
X-Robots-Tag:noindex
X-PUBLISHED-TTL:PT1H
BEGIN:VTIMEZONE
TZID:Pacific/Auckland
BEGIN:STANDARD
TZOFFSETFROM:+1300
TZOFFSETTO:+1200
TZNAME:NZST
DTSTART:20230401T140000
END:STANDARD
BEGIN:DAYLIGHT
TZOFFSETFROM:+1200
TZOFFSETTO:+1300
TZNAME:NZDT
DTSTART:20230923T140000
END:DAYLIGHT
END:VTIMEZONE
BEGIN:VEVENT
DTSTART;TZID=Pacific/Auckland:20231011T100000
DTEND;TZID=Pacific/Auckland:20231011T110000
DTSTAMP:20260423T042112
CREATED:20231003T030918Z
LAST-MODIFIED:20231003T030918Z
UID:10000051-1697018400-1697022000@justavocados.co.nz
SUMMARY:WEBINAR: Season Update
DESCRIPTION:Join the Just Avocados Grower Services team\, and the Darling Group Sales and Marketing team for an update on markets and the NZ industry plus discussion of your questions. If you would like a specific question or topic covered please email them through to communications@darlinggroup.co.nz. \nClick the link below to register for the webinar.
URL:https://justavocados.co.nz/event/webinar-season-update/
LOCATION:Online
ORGANIZER;CN="Gemma Peck":MAILTO:admin@darlinggroup.co.nz
END:VEVENT
END:VCALENDAR