BEGIN:VCALENDAR
VERSION:2.0
PRODID:-//Justavocados - ECPv6.15.0.1//NONSGML v1.0//EN
CALSCALE:GREGORIAN
METHOD:PUBLISH
X-WR-CALNAME:Justavocados
X-ORIGINAL-URL:https://justavocados.co.nz
X-WR-CALDESC:Events for Justavocados
REFRESH-INTERVAL;VALUE=DURATION:PT1H
X-Robots-Tag:noindex
X-PUBLISHED-TTL:PT1H
BEGIN:VTIMEZONE
TZID:UTC
BEGIN:STANDARD
TZOFFSETFROM:+0000
TZOFFSETTO:+0000
TZNAME:UTC
DTSTART:20230101T000000
END:STANDARD
END:VTIMEZONE
BEGIN:VEVENT
DTSTART;TZID=UTC:20230816T100000
DTEND;TZID=UTC:20230816T120000
DTSTAMP:20260423T005749
CREATED:20210802T231633Z
LAST-MODIFIED:20230727T034916Z
UID:10000045-1692180000-1692187200@justavocados.co.nz
SUMMARY:Avocado orchard budgeting
DESCRIPTION:Join the Just Avocados and Darling Group teams as we tackle orchard budgeting and show you how to get on top of understanding the costs in your orchard business. \nMore details to come. \nPlease RSVP for this event to admin@darlinggroup.co.nz
URL:https://justavocados.co.nz/event/sample-event-4/
LOCATION:The Centre\, Mckinney Room\, 21 Main Road\, Katikati\, New Zealand
CATEGORIES:All events
END:VEVENT
END:VCALENDAR